BEGIN:VCALENDAR
VERSION:2.0
PRODID:-//Employer Advisory Council of Orange County, Inc. - ECPv6.15.20//NONSGML v1.0//EN
CALSCALE:GREGORIAN
METHOD:PUBLISH
X-ORIGINAL-URL:https://eac-oc.com
X-WR-CALDESC:Events for Employer Advisory Council of Orange County, Inc.
REFRESH-INTERVAL;VALUE=DURATION:PT1H
X-Robots-Tag:noindex
X-PUBLISHED-TTL:PT1H
BEGIN:VTIMEZONE
TZID:America/Los_Angeles
BEGIN:DAYLIGHT
TZOFFSETFROM:-0800
TZOFFSETTO:-0700
TZNAME:PDT
DTSTART:20250309T100000
END:DAYLIGHT
BEGIN:STANDARD
TZOFFSETFROM:-0700
TZOFFSETTO:-0800
TZNAME:PST
DTSTART:20251102T090000
END:STANDARD
BEGIN:DAYLIGHT
TZOFFSETFROM:-0800
TZOFFSETTO:-0700
TZNAME:PDT
DTSTART:20260308T100000
END:DAYLIGHT
BEGIN:STANDARD
TZOFFSETFROM:-0700
TZOFFSETTO:-0800
TZNAME:PST
DTSTART:20261101T090000
END:STANDARD
BEGIN:DAYLIGHT
TZOFFSETFROM:-0800
TZOFFSETTO:-0700
TZNAME:PDT
DTSTART:20270314T100000
END:DAYLIGHT
BEGIN:STANDARD
TZOFFSETFROM:-0700
TZOFFSETTO:-0800
TZNAME:PST
DTSTART:20271107T090000
END:STANDARD
END:VTIMEZONE
BEGIN:VEVENT
DTSTART;TZID=America/Los_Angeles:20260219T093000
DTEND;TZID=America/Los_Angeles:20260219T110000
DTSTAMP:20260423T113320
CREATED:20251013T195639Z
LAST-MODIFIED:20251025T195010Z
UID:4874-1771493400-1771498800@eac-oc.com
SUMMARY:Handbooks That Hold Up: Build Policies That Protect & Perform
DESCRIPTION:Your employee handbook is more than a formality—it’s your organization’s frontline defense and cultural blueprint. In a constantly changing legal landscape\, outdated policies can put you at serious risk. This webinar will guide you through the essentials of creating (or revising) a handbook that is not only compliant\, but clear\, current\, and truly useful to both leadership and staff. \nOur employment law experts will walk you through key policies that must be included for 2026\, explain common pitfalls that lead to lawsuits\, and show you how to align your handbook with your workplace culture\, values\, and operational needs. \nWhat We’ll Cover: \n\nMust-have policies for 2026 compliance\nUpdates driven by new laws\, remote work\, and evolving workplace norms\nLanguage that reduces risk and eliminates ambiguity\nHow to roll out and enforce your handbook effectively\n\nWho Should Attend:Business owners\, HR professionals\, managers\, and anyone responsible for compliance\, onboarding\, or workforce communications. \nA strong handbook doesn’t just set rules—it sets expectations\, protects your organization\, and builds trust. Make sure yours holds up.
URL:https://eac-oc.com/events/handbooks-that-hold-up-build-policies-that-protect-perform/
LOCATION:Online Webinar
CATEGORIES:Webinar
ATTACH;FMTTYPE=image/jpeg:https://eac-oc.com/wp-content/uploads/2025/10/employee-handbook-creation-service.jpg
ORGANIZER;CN="EAC-OC":MAILTO:info@eac-oc.com
END:VEVENT
END:VCALENDAR