BEGIN:VCALENDAR
VERSION:2.0
PRODID:-//Employer Advisory Council of Orange County, Inc. - ECPv6.15.20//NONSGML v1.0//EN
CALSCALE:GREGORIAN
METHOD:PUBLISH
X-ORIGINAL-URL:https://eac-oc.com
X-WR-CALDESC:Events for Employer Advisory Council of Orange County, Inc.
REFRESH-INTERVAL;VALUE=DURATION:PT1H
X-Robots-Tag:noindex
X-PUBLISHED-TTL:PT1H
BEGIN:VTIMEZONE
TZID:America/Los_Angeles
BEGIN:DAYLIGHT
TZOFFSETFROM:-0800
TZOFFSETTO:-0700
TZNAME:PDT
DTSTART:20250309T100000
END:DAYLIGHT
BEGIN:STANDARD
TZOFFSETFROM:-0700
TZOFFSETTO:-0800
TZNAME:PST
DTSTART:20251102T090000
END:STANDARD
BEGIN:DAYLIGHT
TZOFFSETFROM:-0800
TZOFFSETTO:-0700
TZNAME:PDT
DTSTART:20260308T100000
END:DAYLIGHT
BEGIN:STANDARD
TZOFFSETFROM:-0700
TZOFFSETTO:-0800
TZNAME:PST
DTSTART:20261101T090000
END:STANDARD
BEGIN:DAYLIGHT
TZOFFSETFROM:-0800
TZOFFSETTO:-0700
TZNAME:PDT
DTSTART:20270314T100000
END:DAYLIGHT
BEGIN:STANDARD
TZOFFSETFROM:-0700
TZOFFSETTO:-0800
TZNAME:PST
DTSTART:20271107T090000
END:STANDARD
END:VTIMEZONE
BEGIN:VEVENT
DTSTART;TZID=America/Los_Angeles:20260723T093000
DTEND;TZID=America/Los_Angeles:20260723T110000
DTSTAMP:20260423T125251
CREATED:20250921T010746Z
LAST-MODIFIED:20251025T195735Z
UID:4796-1784799000-1784804400@eac-oc.com
SUMMARY:Q3 Hotline Confessions: The Untold Stories Behind Real Workplace Issues
DESCRIPTION:Every quarter\, California employers bring their toughest\, strangest\, and most surprising HR challenges to the EAC Hotline — and Q3 is when things really heat up. From attendance nightmares to leave abuse\, social media drama to policy loopholes\, this session pulls back the curtain on the real-life scenarios HR is wrestling with right now. \nIn HR Confessions\, our employment law experts reveal the most compelling hotline cases of the quarter — what employers got wrong\, how the attorneys advised\, and what every organization can learn to avoid similar pitfalls. \nWhat You’ll Learn: \n\nJaw-dropping\, real-world HR scenarios and how they were resolved\nCompliance corrections and policy updates you should make now\nPractical tips to prevent headlines\, claims\, and chaos\n\nWho Should Attend:HR professionals\, managers\, business owners\, and anyone responsible for workplace decisions and compliance. \nYou’ll laugh\, you’ll learn — and you’ll leave better prepared.
URL:https://eac-oc.com/events/q3-2026-hotline-highlights-hr-challenges-solved/
LOCATION:Online Webinar
CATEGORIES:Webinar
ATTACH;FMTTYPE=image/jpeg:https://eac-oc.com/wp-content/uploads/2024/01/360_F_56740082_jpC8hHg062qnJdlHlbE5KVxZ4HFcCAvm.jpg
ORGANIZER;CN="EAC-OC":MAILTO:info@eac-oc.com
END:VEVENT
END:VCALENDAR