BEGIN:VCALENDAR
VERSION:2.0
PRODID:-//Employer Advisory Council of Orange County, Inc. - ECPv6.15.20//NONSGML v1.0//EN
CALSCALE:GREGORIAN
METHOD:PUBLISH
X-WR-CALNAME:Employer Advisory Council of Orange County, Inc.
X-ORIGINAL-URL:https://eac-oc.com
X-WR-CALDESC:Events for Employer Advisory Council of Orange County, Inc.
REFRESH-INTERVAL;VALUE=DURATION:PT1H
X-Robots-Tag:noindex
X-PUBLISHED-TTL:PT1H
BEGIN:VTIMEZONE
TZID:America/Los_Angeles
BEGIN:DAYLIGHT
TZOFFSETFROM:-0800
TZOFFSETTO:-0700
TZNAME:PDT
DTSTART:20250309T100000
END:DAYLIGHT
BEGIN:STANDARD
TZOFFSETFROM:-0700
TZOFFSETTO:-0800
TZNAME:PST
DTSTART:20251102T090000
END:STANDARD
BEGIN:DAYLIGHT
TZOFFSETFROM:-0800
TZOFFSETTO:-0700
TZNAME:PDT
DTSTART:20260308T100000
END:DAYLIGHT
BEGIN:STANDARD
TZOFFSETFROM:-0700
TZOFFSETTO:-0800
TZNAME:PST
DTSTART:20261101T090000
END:STANDARD
BEGIN:DAYLIGHT
TZOFFSETFROM:-0800
TZOFFSETTO:-0700
TZNAME:PDT
DTSTART:20270314T100000
END:DAYLIGHT
BEGIN:STANDARD
TZOFFSETFROM:-0700
TZOFFSETTO:-0800
TZNAME:PST
DTSTART:20271107T090000
END:STANDARD
END:VTIMEZONE
BEGIN:VEVENT
DTSTART;TZID=America/Los_Angeles:20260813T093000
DTEND;TZID=America/Los_Angeles:20260813T110000
DTSTAMP:20260423T140400
CREATED:20251013T201318Z
LAST-MODIFIED:20251027T231830Z
UID:4893-1786613400-1786618800@eac-oc.com
SUMMARY:Leaves of Absence Essentials: Navigating Time Off with Confidence and Compliance
DESCRIPTION:Managing employee leaves can feel like navigating a maze of overlapping laws\, conflicting obligations\, and operational pressures. From FMLA and CFRA to ADA and Pregnancy Disability Leave\, California employers must balance empathy with compliance — all while keeping business operations running smoothly. \nThis essential program brings clarity to one of HR’s most complex topics. Our employment law experts will break down the latest legal updates\, walk you through real-world case studies\, and equip you with tools to handle leave requests confidently and consistently. Whether you manage a small team or oversee a large workforce\, you’ll leave with practical strategies to simplify leave management and reduce risk. \n\nWhat You’ll Learn\n\n\nMaster the Alphabet Soup: Understand how FMLA\, CFRA\, ADA\, and PDL intersect — and where they don’t. \n\n\nNew for 2026: Legislative updates and emerging trends impacting leave administration. \n\n\nDocumentation & Tracking: Build compliant processes for requests\, certifications\, and return-to-work. \n\n\nAvoid Common Pitfalls: Learn how missteps in leave decisions lead to lawsuits — and how to prevent them. \n\n\nBalancing Compassion with Compliance: Support your employees while safeguarding your organization. \n\n\n\nWho Should Attend\nHR professionals\, supervisors\, business owners\, payroll and benefits administrators\, and anyone responsible for handling leave requests or ensuring legal compliance in the workplace.
URL:https://eac-oc.com/events/2026-leaves-of-absence/
LOCATION:Online Webinar
CATEGORIES:Webinar
ATTACH;FMTTYPE=image/png:https://eac-oc.com/wp-content/uploads/2025/10/Screenshot-2025-10-27-at-3.38.56-PM.png
ORGANIZER;CN="EAC-OC":MAILTO:info@eac-oc.com
END:VEVENT
END:VCALENDAR