BEGIN:VCALENDAR
VERSION:2.0
PRODID:-//Employer Advisory Council of Orange County, Inc. - ECPv6.15.20//NONSGML v1.0//EN
CALSCALE:GREGORIAN
METHOD:PUBLISH
X-ORIGINAL-URL:https://eac-oc.com
X-WR-CALDESC:Events for Employer Advisory Council of Orange County, Inc.
REFRESH-INTERVAL;VALUE=DURATION:PT1H
X-Robots-Tag:noindex
X-PUBLISHED-TTL:PT1H
BEGIN:VTIMEZONE
TZID:America/Los_Angeles
BEGIN:DAYLIGHT
TZOFFSETFROM:-0800
TZOFFSETTO:-0700
TZNAME:PDT
DTSTART:20250309T100000
END:DAYLIGHT
BEGIN:STANDARD
TZOFFSETFROM:-0700
TZOFFSETTO:-0800
TZNAME:PST
DTSTART:20251102T090000
END:STANDARD
BEGIN:DAYLIGHT
TZOFFSETFROM:-0800
TZOFFSETTO:-0700
TZNAME:PDT
DTSTART:20260308T100000
END:DAYLIGHT
BEGIN:STANDARD
TZOFFSETFROM:-0700
TZOFFSETTO:-0800
TZNAME:PST
DTSTART:20261101T090000
END:STANDARD
BEGIN:DAYLIGHT
TZOFFSETFROM:-0800
TZOFFSETTO:-0700
TZNAME:PDT
DTSTART:20270314T100000
END:DAYLIGHT
BEGIN:STANDARD
TZOFFSETFROM:-0700
TZOFFSETTO:-0800
TZNAME:PST
DTSTART:20271107T090000
END:STANDARD
END:VTIMEZONE
BEGIN:VEVENT
DTSTART;TZID=America/Los_Angeles:20260917T093000
DTEND;TZID=America/Los_Angeles:20260917T110000
DTSTAMP:20260423T151644
CREATED:20251013T201536Z
LAST-MODIFIED:20251025T195829Z
UID:4895-1789637400-1789642800@eac-oc.com
SUMMARY:Lead with Impact: Mastering the Art of Managing Employees
DESCRIPTION:From Expectations to Accountability — Build Stronger Teams in 2026 \nEffective employee management isn’t about authority — it’s about alignment\, communication\, and trust. In today’s workplace\, managers must navigate performance\, personality\, remote dynamics\, and legal boundaries while keeping teams engaged and productive. This webinar delivers practical strategies and real-world tools to help leaders manage with confidence\, clarity\, and consistency. \nWhat We’ll Cover: \n\nSetting clear expectations and driving accountability\nCoaching through conflict and difficult conversations\nBalancing empathy with performance standards\nLegal do’s and don’ts every manager must know\nHow to build retention through recognition and feedback\n\nWho Should Attend:Supervisors\, managers\, HR professionals\, team leads\, and executives who want to strengthen leadership skills and elevate team performance. \nGreat management isn’t accidental — it’s a competitive advantage. Give your leaders the tools to inspire\, engage\, and retain top talent.
URL:https://eac-oc.com/events/lead-with-impact-mastering-the-art-of-managing-employees/
LOCATION:Online Webinar
CATEGORIES:Webinar
ATTACH;FMTTYPE=image/jpeg:https://eac-oc.com/wp-content/uploads/2025/10/Employee-Mgmt-800px.jpg
ORGANIZER;CN="EAC-OC":MAILTO:info@eac-oc.com
END:VEVENT
END:VCALENDAR