BEGIN:VCALENDAR
VERSION:2.0
PRODID:-//Employer Advisory Council of Orange County, Inc. - ECPv6.15.20//NONSGML v1.0//EN
CALSCALE:GREGORIAN
METHOD:PUBLISH
X-WR-CALNAME:Employer Advisory Council of Orange County, Inc.
X-ORIGINAL-URL:https://eac-oc.com
X-WR-CALDESC:Events for Employer Advisory Council of Orange County, Inc.
REFRESH-INTERVAL;VALUE=DURATION:PT1H
X-Robots-Tag:noindex
X-PUBLISHED-TTL:PT1H
BEGIN:VTIMEZONE
TZID:America/Los_Angeles
BEGIN:DAYLIGHT
TZOFFSETFROM:-0800
TZOFFSETTO:-0700
TZNAME:PDT
DTSTART:20250309T100000
END:DAYLIGHT
BEGIN:STANDARD
TZOFFSETFROM:-0700
TZOFFSETTO:-0800
TZNAME:PST
DTSTART:20251102T090000
END:STANDARD
BEGIN:DAYLIGHT
TZOFFSETFROM:-0800
TZOFFSETTO:-0700
TZNAME:PDT
DTSTART:20260308T100000
END:DAYLIGHT
BEGIN:STANDARD
TZOFFSETFROM:-0700
TZOFFSETTO:-0800
TZNAME:PST
DTSTART:20261101T090000
END:STANDARD
BEGIN:DAYLIGHT
TZOFFSETFROM:-0800
TZOFFSETTO:-0700
TZNAME:PDT
DTSTART:20270314T100000
END:DAYLIGHT
BEGIN:STANDARD
TZOFFSETFROM:-0700
TZOFFSETTO:-0800
TZNAME:PST
DTSTART:20271107T090000
END:STANDARD
END:VTIMEZONE
BEGIN:VEVENT
DTSTART;TZID=America/Los_Angeles:20260108T093000
DTEND;TZID=America/Los_Angeles:20260108T110000
DTSTAMP:20260423T140556
CREATED:20250921T005719Z
LAST-MODIFIED:20251025T194826Z
UID:4789-1767864600-1767870000@eac-oc.com
SUMMARY:From Bills to Breakrooms: 2026 New Workplace Laws Unpacked
DESCRIPTION:Stay ahead of the curve in 2026 with a comprehensive legal update designed exclusively for California employers\, HR professionals\, and leadership teams. This essential program breaks down the latest legislation\, regulatory changes\, and court rulings set to impact workplace policies\, employee rights\, recordkeeping\, benefits\, and safety standards in the year ahead. \nFrom wage and hour amendments to new compliance requirements around workplace violence prevention\, protected leaves\, AI usage\, and hiring transparency\, our expert employment law attorneys will translate complex laws into practical guidance. You’ll learn how these changes affect your handbooks\, HR practices\, and day-to-day decision making—so you can avoid costly penalties and confidently implement updates before they take effect. \nKey Takeaways: \n\nCritical state and federal law changes effective January 1\, 2026\nRequired policy updates for handbooks\, hiring\, and safety protocols\nReal-world compliance tips from seasoned legal professionals\n\nEquip your team with the clarity and confidence needed to navigate 2026. Don’t wait until you’re out of compliance—get informed\, get prepared\, and lead with certainty.
URL:https://eac-oc.com/events/2026-new-employment-laws-what-every-california-employer-must-know/
LOCATION:Online Webinar
CATEGORIES:Webinar
ATTACH;FMTTYPE=image/jpeg:https://eac-oc.com/wp-content/uploads/2025/09/Changes2026.jpg
ORGANIZER;CN="EAC-OC":MAILTO:info@eac-oc.com
END:VEVENT
END:VCALENDAR