BEGIN:VCALENDAR
VERSION:2.0
PRODID:-//Employer Advisory Council of Orange County, Inc. - ECPv6.15.20//NONSGML v1.0//EN
CALSCALE:GREGORIAN
METHOD:PUBLISH
X-ORIGINAL-URL:https://eac-oc.com
X-WR-CALDESC:Events for Employer Advisory Council of Orange County, Inc.
REFRESH-INTERVAL;VALUE=DURATION:PT1H
X-Robots-Tag:noindex
X-PUBLISHED-TTL:PT1H
BEGIN:VTIMEZONE
TZID:America/Los_Angeles
BEGIN:DAYLIGHT
TZOFFSETFROM:-0800
TZOFFSETTO:-0700
TZNAME:PDT
DTSTART:20250309T100000
END:DAYLIGHT
BEGIN:STANDARD
TZOFFSETFROM:-0700
TZOFFSETTO:-0800
TZNAME:PST
DTSTART:20251102T090000
END:STANDARD
BEGIN:DAYLIGHT
TZOFFSETFROM:-0800
TZOFFSETTO:-0700
TZNAME:PDT
DTSTART:20260308T100000
END:DAYLIGHT
BEGIN:STANDARD
TZOFFSETFROM:-0700
TZOFFSETTO:-0800
TZNAME:PST
DTSTART:20261101T090000
END:STANDARD
BEGIN:DAYLIGHT
TZOFFSETFROM:-0800
TZOFFSETTO:-0700
TZNAME:PDT
DTSTART:20270314T100000
END:DAYLIGHT
BEGIN:STANDARD
TZOFFSETFROM:-0700
TZOFFSETTO:-0800
TZNAME:PST
DTSTART:20271107T090000
END:STANDARD
END:VTIMEZONE
BEGIN:VEVENT
DTSTART;TZID=America/Los_Angeles:20260115T093000
DTEND;TZID=America/Los_Angeles:20260115T110000
DTSTAMP:20260423T140716
CREATED:20250921T010032Z
LAST-MODIFIED:20251025T194918Z
UID:4791-1768469400-1768474800@eac-oc.com
SUMMARY:Q1 Hotline Confessions: What Employers Are Really Asking
DESCRIPTION:Every quarter\, California employers turn to the hotline with their toughest workplace questions—wage and hour dilemmas\, leave of absence confusion\, disciplinary challenges\, remote work policies\, and more. In this exclusive program\, our employment law experts bring those real-world issues to life\, sharing the most pressing topics being discussed behind the scenes and how smart organizations are resolving them. \nThis is not theory—it’s what’s happening right now in workplaces just like yours. You’ll gain practical insights\, legal clarity\, and actionable strategies to confidently navigate today’s evolving HR landscape. \nWhat You’ll Learn: \n\nThe most frequently asked hotline questions from employers\nCommon mistakes that lead to legal exposure\nAttorney-recommended responses and policy best practices\n\nWho Should Attend:HR professionals\, business owners\, managers\, payroll and compliance leaders—anyone responsible for navigating employee issues with confidence and compliance. \nStay current. Stay compliant. Stay ahead.
URL:https://eac-oc.com/events/q1-2026-hotline-highlights-real-questions-real-solutions/
LOCATION:Online Webinar
CATEGORIES:Webinar
ATTACH;FMTTYPE=image/jpeg:https://eac-oc.com/wp-content/uploads/2024/01/360_F_56740082_jpC8hHg062qnJdlHlbE5KVxZ4HFcCAvm.jpg
ORGANIZER;CN="EAC-OC":MAILTO:info@eac-oc.com
END:VEVENT
END:VCALENDAR