BEGIN:VCALENDAR
VERSION:2.0
PRODID:-//Employer Advisory Council of Orange County, Inc. - ECPv6.15.20//NONSGML v1.0//EN
CALSCALE:GREGORIAN
METHOD:PUBLISH
X-WR-CALNAME:Employer Advisory Council of Orange County, Inc.
X-ORIGINAL-URL:https://eac-oc.com
X-WR-CALDESC:Events for Employer Advisory Council of Orange County, Inc.
REFRESH-INTERVAL;VALUE=DURATION:PT1H
X-Robots-Tag:noindex
X-PUBLISHED-TTL:PT1H
BEGIN:VTIMEZONE
TZID:America/Los_Angeles
BEGIN:DAYLIGHT
TZOFFSETFROM:-0800
TZOFFSETTO:-0700
TZNAME:PDT
DTSTART:20250309T100000
END:DAYLIGHT
BEGIN:STANDARD
TZOFFSETFROM:-0700
TZOFFSETTO:-0800
TZNAME:PST
DTSTART:20251102T090000
END:STANDARD
BEGIN:DAYLIGHT
TZOFFSETFROM:-0800
TZOFFSETTO:-0700
TZNAME:PDT
DTSTART:20260308T100000
END:DAYLIGHT
BEGIN:STANDARD
TZOFFSETFROM:-0700
TZOFFSETTO:-0800
TZNAME:PST
DTSTART:20261101T090000
END:STANDARD
BEGIN:DAYLIGHT
TZOFFSETFROM:-0800
TZOFFSETTO:-0700
TZNAME:PDT
DTSTART:20270314T100000
END:DAYLIGHT
BEGIN:STANDARD
TZOFFSETFROM:-0700
TZOFFSETTO:-0800
TZNAME:PST
DTSTART:20271107T090000
END:STANDARD
END:VTIMEZONE
BEGIN:VEVENT
DTSTART;TZID=America/Los_Angeles:20260521T093000
DTEND;TZID=America/Los_Angeles:20260521T110000
DTSTAMP:20260423T113411
CREATED:20250921T011339Z
LAST-MODIFIED:20251025T195244Z
UID:4801-1779355800-1779361200@eac-oc.com
SUMMARY:No Plan\, Big Risk: The 2026 Workplace Violence Compliance Mandate
DESCRIPTION:Comply with the Law. Protect Your People. Strengthen Your Culture. \nWorkplace violence prevention is no longer optional — it’s law. With SB 553 in effect\, every California employer must have a written plan\, incident log\, employee training\, and reporting procedures in place. But beyond compliance\, this is about protecting your most valuable asset: your people. \nThis essential program walks you through how to develop\, implement\, and maintain a compliant Workplace Violence Prevention Plan (WVPP) while fostering a culture of safety and readiness. Learn how to identify risks\, respond to threats\, handle reporting\, and train your workforce with confidence. \nProgram Highlights: \n\nSB 553 requirements and deadlines every employer must meet\nReal-world scenarios and response protocols\nHow to draft\, document\, and deploy a WVPP\nIncident reporting\, employee training\, and recordkeeping best practices\n\nWho Should Attend:HR professionals\, safety officers\, business owners\, facility managers\, and leadership teams. \nCreating a safe workplace isn’t just regulation — it’s responsibility. Make sure your organization is prepared\, protected\, and proactive.
URL:https://eac-oc.com/events/safe-workplaces-start-here-violence-prevention-strategies-that-work/
LOCATION:Online Webinar
CATEGORIES:Webinar
ATTACH;FMTTYPE=image/png:https://eac-oc.com/wp-content/uploads/2025/09/WVT_blog_hero-674x337-1.png
ORGANIZER;CN="EAC-OC":MAILTO:info@eac-oc.com
END:VEVENT
END:VCALENDAR