BEGIN:VCALENDAR
VERSION:2.0
PRODID:-//Employer Advisory Council of Orange County, Inc. - ECPv6.15.20//NONSGML v1.0//EN
CALSCALE:GREGORIAN
METHOD:PUBLISH
X-ORIGINAL-URL:https://eac-oc.com
X-WR-CALDESC:Events for Employer Advisory Council of Orange County, Inc.
REFRESH-INTERVAL;VALUE=DURATION:PT1H
X-Robots-Tag:noindex
X-PUBLISHED-TTL:PT1H
BEGIN:VTIMEZONE
TZID:America/Los_Angeles
BEGIN:DAYLIGHT
TZOFFSETFROM:-0800
TZOFFSETTO:-0700
TZNAME:PDT
DTSTART:20250309T100000
END:DAYLIGHT
BEGIN:STANDARD
TZOFFSETFROM:-0700
TZOFFSETTO:-0800
TZNAME:PST
DTSTART:20251102T090000
END:STANDARD
BEGIN:DAYLIGHT
TZOFFSETFROM:-0800
TZOFFSETTO:-0700
TZNAME:PDT
DTSTART:20260308T100000
END:DAYLIGHT
BEGIN:STANDARD
TZOFFSETFROM:-0700
TZOFFSETTO:-0800
TZNAME:PST
DTSTART:20261101T090000
END:STANDARD
BEGIN:DAYLIGHT
TZOFFSETFROM:-0800
TZOFFSETTO:-0700
TZNAME:PDT
DTSTART:20270314T100000
END:DAYLIGHT
BEGIN:STANDARD
TZOFFSETFROM:-0700
TZOFFSETTO:-0800
TZNAME:PST
DTSTART:20271107T090000
END:STANDARD
END:VTIMEZONE
BEGIN:VEVENT
DTSTART;TZID=America/Los_Angeles:20260611T093000
DTEND;TZID=America/Los_Angeles:20260611T110000
DTSTAMP:20260423T125430
CREATED:20251013T200812Z
LAST-MODIFIED:20251025T195516Z
UID:4886-1781170200-1781175600@eac-oc.com
SUMMARY:Benefits That Matter: Designing Packages Employees Won't Walk Away From
DESCRIPTION:Retention\, Compliance & Competitive Advantage in 2026 \nIn a labor market where talent has options\, employee benefits are no longer a checkbox — they’re a strategy. This program dives into the evolving world of employee benefits\, exploring how organizations can build packages that attract top talent\, boost retention\, and stay compliant with new legal standards. \nFrom healthcare and wellness to flexible perks\, retirement plans\, and voluntary benefits\, we’ll unpack what employees truly value in 2026 — and how to deliver it without breaking your budget. \nWhat You’ll Learn: \n\nEmerging benefit trends reshaping recruitment & retention\nLegal updates impacting benefits administration\nCreative\, cost-effective perks employees actually use\nHow to communicate benefits for maximum employee impact\n\nWho Should Attend:HR teams\, benefits administrators\, business owners\, and leaders focused on workforce strategy and culture. \nIn 2026\, great benefits aren’t an expense — they’re an investment in your people\, your brand\, and your future.
URL:https://eac-oc.com/events/benefits-that-matter-designing-packages-employees-wont-walk-away-from/
LOCATION:Online Webinar
CATEGORIES:Webinar
ATTACH;FMTTYPE=image/jpeg:https://eac-oc.com/wp-content/uploads/2025/10/image-from-rawpixel-id-6971084-jpeg-scaled-1.jpg
ORGANIZER;CN="EAC-OC":MAILTO:info@eac-oc.com
END:VEVENT
END:VCALENDAR