BEGIN:VCALENDAR
VERSION:2.0
PRODID:-//Employer Advisory Council of Orange County, Inc. - ECPv6.15.20//NONSGML v1.0//EN
CALSCALE:GREGORIAN
METHOD:PUBLISH
X-ORIGINAL-URL:https://eac-oc.com
X-WR-CALDESC:Events for Employer Advisory Council of Orange County, Inc.
REFRESH-INTERVAL;VALUE=DURATION:PT1H
X-Robots-Tag:noindex
X-PUBLISHED-TTL:PT1H
BEGIN:VTIMEZONE
TZID:America/Los_Angeles
BEGIN:DAYLIGHT
TZOFFSETFROM:-0800
TZOFFSETTO:-0700
TZNAME:PDT
DTSTART:20250309T100000
END:DAYLIGHT
BEGIN:STANDARD
TZOFFSETFROM:-0700
TZOFFSETTO:-0800
TZNAME:PST
DTSTART:20251102T090000
END:STANDARD
BEGIN:DAYLIGHT
TZOFFSETFROM:-0800
TZOFFSETTO:-0700
TZNAME:PDT
DTSTART:20260308T100000
END:DAYLIGHT
BEGIN:STANDARD
TZOFFSETFROM:-0700
TZOFFSETTO:-0800
TZNAME:PST
DTSTART:20261101T090000
END:STANDARD
BEGIN:DAYLIGHT
TZOFFSETFROM:-0800
TZOFFSETTO:-0700
TZNAME:PDT
DTSTART:20270314T100000
END:DAYLIGHT
BEGIN:STANDARD
TZOFFSETFROM:-0700
TZOFFSETTO:-0800
TZNAME:PST
DTSTART:20271107T090000
END:STANDARD
END:VTIMEZONE
BEGIN:VEVENT
DTSTART;TZID=America/Los_Angeles:20260625T093000
DTEND;TZID=America/Los_Angeles:20260625T110000
DTSTAMP:20260423T125431
CREATED:20251013T201007Z
LAST-MODIFIED:20251025T195656Z
UID:4888-1782379800-1782385200@eac-oc.com
SUMMARY:Mid-Year Legal Checkpoint: 2026 Laws California Employers Can't Ignore
DESCRIPTION:New Rules. Fresh Risks. Critical Corrections. \nHalfway through the year is no time to coast — it’s when new regulations take effect\, court rulings reshape policies\, and enforcement agencies sharpen their focus. This mid-year legal update delivers the latest developments California employers must understand to stay compliant and avoid costly missteps. \nFrom wage and hour rulings to leave expansions\, workplace safety requirements\, retaliation claims\, and emerging case law\, our employment law experts will break down what’s changed\, what’s coming\, and what actions you need to take now. \nWhat This Update Covers: \n\nKey legislative and regulatory changes since January 1\nNew case law affecting HR policies and employer liability\nMid-year corrections needed for handbooks\, postings\, and practices\nEnforcement trends and real-world compliance guidance\n\nWho Should Attend:HR leaders\, business owners\, executives\, compliance officers\, and anyone responsible for managing risk in the workplace. \nDon’t wait for a citation\, claim\, or lawsuit to catch up. Get current\, get compliant\, and finish the year strong.
URL:https://eac-oc.com/events/mid-year-legal-checkpoint-2026-laws-california-employers-cant-ignore/
LOCATION:Online Webinar
CATEGORIES:Webinar
ATTACH;FMTTYPE=image/jpeg:https://eac-oc.com/wp-content/uploads/2025/09/2022-Employment-Law-Update.jpg
ORGANIZER;CN="EAC-OC":MAILTO:info@eac-oc.com
END:VEVENT
END:VCALENDAR