BEGIN:VCALENDAR
VERSION:2.0
PRODID:-//Employer Advisory Council of Orange County, Inc. - ECPv6.15.20//NONSGML v1.0//EN
CALSCALE:GREGORIAN
METHOD:PUBLISH
X-WR-CALNAME:Employer Advisory Council of Orange County, Inc.
X-ORIGINAL-URL:https://eac-oc.com
X-WR-CALDESC:Events for Employer Advisory Council of Orange County, Inc.
REFRESH-INTERVAL;VALUE=DURATION:PT1H
X-Robots-Tag:noindex
X-PUBLISHED-TTL:PT1H
BEGIN:VTIMEZONE
TZID:America/Los_Angeles
BEGIN:DAYLIGHT
TZOFFSETFROM:-0800
TZOFFSETTO:-0700
TZNAME:PDT
DTSTART:20250309T100000
END:DAYLIGHT
BEGIN:STANDARD
TZOFFSETFROM:-0700
TZOFFSETTO:-0800
TZNAME:PST
DTSTART:20251102T090000
END:STANDARD
BEGIN:DAYLIGHT
TZOFFSETFROM:-0800
TZOFFSETTO:-0700
TZNAME:PDT
DTSTART:20260308T100000
END:DAYLIGHT
BEGIN:STANDARD
TZOFFSETFROM:-0700
TZOFFSETTO:-0800
TZNAME:PST
DTSTART:20261101T090000
END:STANDARD
BEGIN:DAYLIGHT
TZOFFSETFROM:-0800
TZOFFSETTO:-0700
TZNAME:PDT
DTSTART:20270314T100000
END:DAYLIGHT
BEGIN:STANDARD
TZOFFSETFROM:-0700
TZOFFSETTO:-0800
TZNAME:PST
DTSTART:20271107T090000
END:STANDARD
END:VTIMEZONE
BEGIN:VEVENT
DTSTART;TZID=America/Los_Angeles:20261203T093000
DTEND;TZID=America/Los_Angeles:20261203T110000
DTSTAMP:20260423T125526
CREATED:20251013T202420Z
LAST-MODIFIED:20251025T200619Z
UID:4903-1796290200-1796295600@eac-oc.com
SUMMARY:Hire Without Regret: Mastering the Modern Hiring Process
DESCRIPTION:From Job Post to Day One — Find\, Vet & Keep the Right People \nA strong hiring process doesn’t start with an interview — it starts with strategy. In today’s competitive market\, employers must balance speed with compliance\, culture with qualification\, and legal guardrails with gut instinct. This program walks you through every step of a legally sound\, high-impact hiring process designed to attract top talent while minimizing risk. \nWhether you’re refining your recruiting pipeline or rebuilding it from scratch\, this session offers practical tools and real-world strategies to help you hire smarter — not faster. \nWhat You’ll Learn: \n\nBest practices for compliant job postings\, interviews\, and offer letters\nLegal pitfalls to avoid — salary history\, AI screening\, bias & ban-the-box rules\nBehavioral interviewing techniques that reveal true fit\nHow to create a candidate experience that boosts your employer brand\nTurning great hires into great onboarding\n\nWho Should Attend:HR professionals\, hiring managers\, recruiters\, business owners\, and anyone involved in talent selection or onboarding. \nThe cost of a bad hire is high. The value of a great hire is priceless. Get the process right. \n 
URL:https://eac-oc.com/events/hire-without-regret-mastering-the-modern-hiring-process/
LOCATION:Online Webinar
CATEGORIES:Webinar
ATTACH;FMTTYPE=image/jpeg:https://eac-oc.com/wp-content/uploads/2025/10/benefits-of-a-faster-hiring-process-2023.jpg
ORGANIZER;CN="EAC-OC":MAILTO:info@eac-oc.com
END:VEVENT
END:VCALENDAR