BEGIN:VCALENDAR
VERSION:2.0
PRODID:-//Employer Advisory Council of Orange County, Inc. - ECPv6.15.20//NONSGML v1.0//EN
CALSCALE:GREGORIAN
METHOD:PUBLISH
X-WR-CALNAME:Employer Advisory Council of Orange County, Inc.
X-ORIGINAL-URL:https://eac-oc.com
X-WR-CALDESC:Events for Employer Advisory Council of Orange County, Inc.
REFRESH-INTERVAL;VALUE=DURATION:PT1H
X-Robots-Tag:noindex
X-PUBLISHED-TTL:PT1H
BEGIN:VTIMEZONE
TZID:America/Los_Angeles
BEGIN:DAYLIGHT
TZOFFSETFROM:-0800
TZOFFSETTO:-0700
TZNAME:PDT
DTSTART:20210314T100000
END:DAYLIGHT
BEGIN:STANDARD
TZOFFSETFROM:-0700
TZOFFSETTO:-0800
TZNAME:PST
DTSTART:20211107T090000
END:STANDARD
BEGIN:DAYLIGHT
TZOFFSETFROM:-0800
TZOFFSETTO:-0700
TZNAME:PDT
DTSTART:20220313T100000
END:DAYLIGHT
BEGIN:STANDARD
TZOFFSETFROM:-0700
TZOFFSETTO:-0800
TZNAME:PST
DTSTART:20221106T090000
END:STANDARD
BEGIN:DAYLIGHT
TZOFFSETFROM:-0800
TZOFFSETTO:-0700
TZNAME:PDT
DTSTART:20230312T100000
END:DAYLIGHT
BEGIN:STANDARD
TZOFFSETFROM:-0700
TZOFFSETTO:-0800
TZNAME:PST
DTSTART:20231105T090000
END:STANDARD
BEGIN:DAYLIGHT
TZOFFSETFROM:-0800
TZOFFSETTO:-0700
TZNAME:PDT
DTSTART:20240310T100000
END:DAYLIGHT
BEGIN:STANDARD
TZOFFSETFROM:-0700
TZOFFSETTO:-0800
TZNAME:PST
DTSTART:20241103T090000
END:STANDARD
BEGIN:DAYLIGHT
TZOFFSETFROM:-0800
TZOFFSETTO:-0700
TZNAME:PDT
DTSTART:20250309T100000
END:DAYLIGHT
BEGIN:STANDARD
TZOFFSETFROM:-0700
TZOFFSETTO:-0800
TZNAME:PST
DTSTART:20251102T090000
END:STANDARD
END:VTIMEZONE
BEGIN:VEVENT
DTSTART;TZID=America/Los_Angeles:20241114T093000
DTEND;TZID=America/Los_Angeles:20241114T110000
DTSTAMP:20260423T102834
CREATED:20231015T184939Z
LAST-MODIFIED:20231215T212134Z
UID:3668-1731576600-1731582000@eac-oc.com
SUMMARY:2024 | Wage and Hour
DESCRIPTION:
URL:https://eac-oc.com/events/2024-wage-and-hour/
LOCATION:Online Webinar
CATEGORIES:Webinar
ATTACH;FMTTYPE=image/jpeg:https://eac-oc.com/wp-content/uploads/2023/10/Wage-Hour-Attorney.jpg
ORGANIZER;CN="EAC-OC":MAILTO:info@eac-oc.com
END:VEVENT
BEGIN:VEVENT
DTSTART;TZID=America/Los_Angeles:20241107T093000
DTEND;TZID=America/Los_Angeles:20241107T110000
DTSTAMP:20260423T102834
CREATED:20240919T194852Z
LAST-MODIFIED:20240919T194853Z
UID:4081-1730971800-1730977200@eac-oc.com
SUMMARY:2024 | Hiring Heroes: Veterans Bring Unmatched Value to your Company
DESCRIPTION:Veterans Employment Workshop Overview: \nLearn how your organization can benefit from hiring veterans and discover best practices for developing a veteran-friendly workplace. \nThis workshop will cover: \n\nThe business case for hiring veterans\nKey attributes and skills veterans bring to the workforce\, including leadership\, mission focus\, and adaptability\nStrategies for creating a veteran recruitment and retention program\nFederal resources and incentives available for employers\, such as the Work Opportunity Tax Credit (WOTC) and Registered Apprenticeship programs\n\n  \nPresenter Information: \nPresented by Joshua Noonan\, Local Veterans’ Employment Representative (LVER)\, and Chhaya Samtani\, Employer Advisory Council Coordinator \, Orange County EAC
URL:https://eac-oc.com/events/2024-hiring-heroes-veterans-bring-unmatched-value-to-your-company/
LOCATION:Online Webinar
CATEGORIES:Webinar
ATTACH;FMTTYPE=image/jpeg:https://eac-oc.com/wp-content/uploads/2024/09/Hire_A_Vet-1.jpg
ORGANIZER;CN="EAC-OC":MAILTO:info@eac-oc.com
END:VEVENT
BEGIN:VEVENT
DTSTART;TZID=America/Los_Angeles:20241017T093000
DTEND;TZID=America/Los_Angeles:20241017T110000
DTSTAMP:20260423T102834
CREATED:20231107T234131Z
LAST-MODIFIED:20231215T212149Z
UID:3715-1729157400-1729162800@eac-oc.com
SUMMARY:2024 | Q4 Hot Line Update
DESCRIPTION:
URL:https://eac-oc.com/events/2024-q4-hot-line-update/
LOCATION:Online Webinar
CATEGORIES:Webinar
ATTACH;FMTTYPE=image/jpeg:https://eac-oc.com/wp-content/uploads/2022/11/Hotlineteaser-1.jpg
ORGANIZER;CN="EAC-OC":MAILTO:info@eac-oc.com
END:VEVENT
BEGIN:VEVENT
DTSTART;TZID=America/Los_Angeles:20240919T093000
DTEND;TZID=America/Los_Angeles:20240919T110000
DTSTAMP:20260423T102834
CREATED:20231015T184556Z
LAST-MODIFIED:20231215T212205Z
UID:3665-1726738200-1726743600@eac-oc.com
SUMMARY:2024 | Employee Benefits
DESCRIPTION:
URL:https://eac-oc.com/events/2024-employee-benefits/
LOCATION:Online Webinar
CATEGORIES:Webinar
ATTACH;FMTTYPE=image/png:https://eac-oc.com/wp-content/uploads/2023/10/637654857514530000.png
ORGANIZER;CN="EAC-OC":MAILTO:info@eac-oc.com
END:VEVENT
BEGIN:VEVENT
DTSTART;TZID=America/Los_Angeles:20240718T093000
DTEND;TZID=America/Los_Angeles:20240718T110000
DTSTAMP:20260423T102834
CREATED:20231107T233956Z
LAST-MODIFIED:20231215T212238Z
UID:3713-1721295000-1721300400@eac-oc.com
SUMMARY:2024 | Q3 Hot Line Update
DESCRIPTION:
URL:https://eac-oc.com/events/2024-q3-hot-line-update/
LOCATION:Online Webinar
CATEGORIES:Webinar
ATTACH;FMTTYPE=image/jpeg:https://eac-oc.com/wp-content/uploads/2022/11/Hotlineteaser-1.jpg
ORGANIZER;CN="EAC-OC":MAILTO:info@eac-oc.com
END:VEVENT
BEGIN:VEVENT
DTSTART;TZID=America/Los_Angeles:20240516T093000
DTEND;TZID=America/Los_Angeles:20240516T110000
DTSTAMP:20260423T102834
CREATED:20231116T165625Z
LAST-MODIFIED:20231215T212307Z
UID:3744-1715851800-1715857200@eac-oc.com
SUMMARY:2024 | Hiring Strategies
DESCRIPTION:
URL:https://eac-oc.com/events/2024-hiring-strategies/
LOCATION:Online Webinar
CATEGORIES:Webinar
ATTACH;FMTTYPE=image/jpeg:https://eac-oc.com/wp-content/uploads/2023/11/now-hiring-sign-gty-jt-230126_1674772384489_hpMain_16x9_992.jpg
ORGANIZER;CN="EAC-OC":MAILTO:info@eac-oc.com
END:VEVENT
BEGIN:VEVENT
DTSTART;TZID=America/Los_Angeles:20240425T093000
DTEND;TZID=America/Los_Angeles:20240425T110000
DTSTAMP:20260423T102834
CREATED:20231015T184018Z
LAST-MODIFIED:20240421T191309Z
UID:3662-1714037400-1714042800@eac-oc.com
SUMMARY:2024 | Workplace Violence Prevention Planning
DESCRIPTION:SB 553 now requires almost every employer in California to create a Workplace Violence Prevention Plan (WVPP) which requires evaluating and correcting workplace violence hazards\, training employees and supervisors on workplace violence matters\, creating and maintaining a violent incident log\, and maintaining records of all training and violent workplace incidents. \nThis presentation will address the requirements of SB 553\, tips for evaluating unsafe conditions\, reporting\, training\, and investigating workplace violence incidents\, and the key elements of a compliant Workplace Violence Prevention Plan specific to the private sector. Join AALRR attorney\, Michael Watts for an in-depth discussion of the significant undertaking employers must now shoulder to comply with the requirements of SB 553.
URL:https://eac-oc.com/events/workplace-violence-respect-diversity-prevent-hostility/
LOCATION:Online Webinar
CATEGORIES:Webinar
ATTACH;FMTTYPE=image/png:https://eac-oc.com/wp-content/uploads/2024/04/WVPP-Image.png
ORGANIZER;CN="EAC-OC":MAILTO:info@eac-oc.com
END:VEVENT
BEGIN:VEVENT
DTSTART;TZID=America/Los_Angeles:20240418T093000
DTEND;TZID=America/Los_Angeles:20240418T110000
DTSTAMP:20260423T102834
CREATED:20231107T233800Z
LAST-MODIFIED:20231215T212334Z
UID:3711-1713432600-1713438000@eac-oc.com
SUMMARY:2024 | Q2 Hot Line Update
DESCRIPTION:
URL:https://eac-oc.com/events/2024-q2-hot-line-update/
LOCATION:Online Webinar
CATEGORIES:Webinar
ATTACH;FMTTYPE=image/jpeg:https://eac-oc.com/wp-content/uploads/2022/11/Hotlineteaser-1.jpg
ORGANIZER;CN="EAC-OC":MAILTO:info@eac-oc.com
END:VEVENT
BEGIN:VEVENT
DTSTART;TZID=America/Los_Angeles:20240328T093000
DTEND;TZID=America/Los_Angeles:20240328T110000
DTSTAMP:20260423T102834
CREATED:20231014T192426Z
LAST-MODIFIED:20231215T212346Z
UID:3659-1711618200-1711623600@eac-oc.com
SUMMARY:2024 | Sex\, Drugs and Videos: Random Thoughts on the Modern Office Environment
DESCRIPTION:This talk covers three diverse and discreet HR issues that arise occasionally in the workplace. The workplace is an obvious place for personal relationships to blossom\, or sour\, and to be affected by social media. Marijuana use is now legal in California\, but its use\, and testing for it\, can both protect and perhaps inhibit an employer’s ability to hire and fire.  Cameras – whether using video or both video and audio – can create both positives and negatives for the employer. Jon would discuss each subject and what you can and can’t do – and should or shouldn’t do — as an employer in 2024 and beyond.
URL:https://eac-oc.com/events/sex-drugs-and-videos-random-thoughts-on-the-modern-office-environment/
LOCATION:Online Webinar
CATEGORIES:Webinar
ATTACH;FMTTYPE=image/jpeg:https://eac-oc.com/wp-content/uploads/2023/10/081815sexpill2_640x360.jpg
ORGANIZER;CN="EAC-OC":MAILTO:info@eac-oc.com
END:VEVENT
BEGIN:VEVENT
DTSTART;TZID=America/Los_Angeles:20240222T093000
DTEND;TZID=America/Los_Angeles:20240222T110000
DTSTAMP:20260423T102834
CREATED:20231107T233427Z
LAST-MODIFIED:20240220T163822Z
UID:3708-1708594200-1708599600@eac-oc.com
SUMMARY:2024 | Gender & Appearance Issues Affecting the Workplace
DESCRIPTION:Amid the ever-evolving landscape of workplace discrimination laws\, savvy employers must regularly review their personnel policies and procedures to ensure compliance with the most recent legal guidance and developments.\n\n\nWe will review use of pronouns\, bathroom usage\, gender transition and other issues that affect transgender people in the workplace.\n\n\nWe will also talk about grooming and dress policies\, whether employers can have different standards for different genders\, and avoiding claims of discrimination based on race\, gender\, and other protected characteristics.\n\n\nAs part of this discussion\, we will review tattoos\, hair styles\, jewelry\, religious and even political expression in the workplace.
URL:https://eac-oc.com/events/gender-appearance-issues-affecting-the-workplace/
LOCATION:Online Webinar
CATEGORIES:Webinar
ATTACH;FMTTYPE=image/jpeg:https://eac-oc.com/wp-content/uploads/2023/11/R2002J_ULVE-scaled.jpg
ORGANIZER;CN="EAC-OC":MAILTO:info@eac-oc.com
END:VEVENT
BEGIN:VEVENT
DTSTART;TZID=America/Los_Angeles:20240201T093000
DTEND;TZID=America/Los_Angeles:20240201T110000
DTSTAMP:20260423T102834
CREATED:20231107T232304Z
LAST-MODIFIED:20231215T212414Z
UID:3706-1706779800-1706785200@eac-oc.com
SUMMARY:2024 | Q1 Hot Line Update
DESCRIPTION:
URL:https://eac-oc.com/events/2024-q1-hot-line-update/
LOCATION:Online Webinar
CATEGORIES:Webinar
ATTACH;FMTTYPE=image/jpeg:https://eac-oc.com/wp-content/uploads/2022/11/Hotlineteaser-1.jpg
ORGANIZER;CN="EAC-OC":MAILTO:info@eac-oc.com
END:VEVENT
BEGIN:VEVENT
DTSTART;TZID=America/Los_Angeles:20240118T093000
DTEND;TZID=America/Los_Angeles:20240118T110000
DTSTAMP:20260423T102834
CREATED:20231215T211804Z
LAST-MODIFIED:20231215T212429Z
UID:3775-1705570200-1705575600@eac-oc.com
SUMMARY:2024 | California Paid Sick Leave Program
DESCRIPTION:
URL:https://eac-oc.com/events/2024-california-paid-sick-leave-program/
LOCATION:Online Webinar
CATEGORIES:Webinar
ATTACH;FMTTYPE=image/jpeg:https://eac-oc.com/wp-content/uploads/2023/12/iStock-1337232946-e1665613408620.jpg
ORGANIZER;CN="EAC-OC":MAILTO:info@eac-oc.com
END:VEVENT
BEGIN:VEVENT
DTSTART;TZID=America/Los_Angeles:20240111T093000
DTEND;TZID=America/Los_Angeles:20240111T110000
DTSTAMP:20260423T102834
CREATED:20221117T161335Z
LAST-MODIFIED:20231215T212441Z
UID:3217-1704965400-1704970800@eac-oc.com
SUMMARY:2024 | New Laws
DESCRIPTION:This always popular summary will cover not only 2024’s new lawsuit also court decisions and other administrative activities that will impact employers in the next year and beyond.
URL:https://eac-oc.com/events/2023-new-laws/
LOCATION:Online Webinar
CATEGORIES:Webinar
ATTACH;FMTTYPE=image/webp:https://eac-oc.com/wp-content/uploads/2022/11/1681832207314.jpg.webp
ORGANIZER;CN="EAC-OC":MAILTO:info@eac-oc.com
END:VEVENT
BEGIN:VEVENT
DTSTART;TZID=America/Los_Angeles:20231116T093000
DTEND;TZID=America/Los_Angeles:20231116T110000
DTSTAMP:20260423T102834
CREATED:20221127T230439Z
LAST-MODIFIED:20231015T184156Z
UID:3352-1700127000-1700132400@eac-oc.com
SUMMARY:Wage and Hour
DESCRIPTION:
URL:https://eac-oc.com/events/wage-and-hour/
LOCATION:Online Webinar
CATEGORIES:Webinar
ATTACH;FMTTYPE=image/jpeg:https://eac-oc.com/wp-content/uploads/2021/12/c_scalefl_progressiveq_80w_800-800x482-1.jpg
ORGANIZER;CN="EAC-OC":MAILTO:info@eac-oc.com
END:VEVENT
BEGIN:VEVENT
DTSTART;TZID=America/Los_Angeles:20231109T093000
DTEND;TZID=America/Los_Angeles:20231109T110000
DTSTAMP:20260423T102834
CREATED:20221127T230359Z
LAST-MODIFIED:20230817T164720Z
UID:3350-1699522200-1699527600@eac-oc.com
SUMMARY:2023/Q4 CR:  Hot Topics from the Conflict Resolution Hotline
DESCRIPTION:
URL:https://eac-oc.com/events/q4-2023-conflict-resolution/
LOCATION:Online Webinar
CATEGORIES:Webinar
ORGANIZER;CN="EAC-OC":MAILTO:info@eac-oc.com
END:VEVENT
BEGIN:VEVENT
DTSTART;TZID=America/Los_Angeles:20231019T093000
DTEND;TZID=America/Los_Angeles:20231019T110000
DTSTAMP:20260423T102834
CREATED:20221127T230302Z
LAST-MODIFIED:20230316T182351Z
UID:3348-1697707800-1697713200@eac-oc.com
SUMMARY:2023/Q4 HotLine Update
DESCRIPTION:
URL:https://eac-oc.com/events/q4-2023-hotline-update/
LOCATION:Online Webinar
CATEGORIES:Webinar
ORGANIZER;CN="EAC-OC":MAILTO:info@eac-oc.com
END:VEVENT
BEGIN:VEVENT
DTSTART;TZID=America/Los_Angeles:20230921T093000
DTEND;TZID=America/Los_Angeles:20230921T110000
DTSTAMP:20260423T102834
CREATED:20221127T230207Z
LAST-MODIFIED:20230316T182419Z
UID:3346-1695288600-1695294000@eac-oc.com
SUMMARY:Employee Benefits
DESCRIPTION:
URL:https://eac-oc.com/events/employee-benefits-4/
LOCATION:Online Webinar
CATEGORIES:Webinar
ORGANIZER;CN="EAC-OC":MAILTO:info@eac-oc.com
END:VEVENT
BEGIN:VEVENT
DTSTART;TZID=America/Los_Angeles:20230817T093000
DTEND;TZID=America/Los_Angeles:20230817T110000
DTSTAMP:20260423T102834
CREATED:20221127T230116Z
LAST-MODIFIED:20230518T164424Z
UID:3344-1692264600-1692270000@eac-oc.com
SUMMARY:2023/Q3 CR:  Leading thru Change and Uncertainty
DESCRIPTION:
URL:https://eac-oc.com/events/q3-2023-conflict-resolution-2/
LOCATION:Online Webinar
CATEGORIES:Webinar
ORGANIZER;CN="EAC-OC":MAILTO:info@eac-oc.com
END:VEVENT
BEGIN:VEVENT
DTSTART;TZID=America/Los_Angeles:20230720T093000
DTEND;TZID=America/Los_Angeles:20230720T110000
DTSTAMP:20260423T102834
CREATED:20221127T230028Z
LAST-MODIFIED:20230316T182520Z
UID:3342-1689845400-1689850800@eac-oc.com
SUMMARY:2023/Q3 HotLine Update
DESCRIPTION:
URL:https://eac-oc.com/events/q3-2023-hotline-update-2/
LOCATION:Online Webinar
CATEGORIES:Webinar
ORGANIZER;CN="EAC-OC":MAILTO:info@eac-oc.com
END:VEVENT
BEGIN:VEVENT
DTSTART;TZID=America/Los_Angeles:20230615T093000
DTEND;TZID=America/Los_Angeles:20230615T110000
DTSTAMP:20260423T102834
CREATED:20221127T225941Z
LAST-MODIFIED:20230316T182552Z
UID:3340-1686821400-1686826800@eac-oc.com
SUMMARY:Disability 101: Reasonable Accommodation
DESCRIPTION:
URL:https://eac-oc.com/events/disability-101-reasonable-accommodation/
LOCATION:Online Webinar
CATEGORIES:Webinar
ORGANIZER;CN="EAC-OC":MAILTO:info@eac-oc.com
END:VEVENT
BEGIN:VEVENT
DTSTART;TZID=America/Los_Angeles:20230518T093000
DTEND;TZID=America/Los_Angeles:20230518T110000
DTSTAMP:20260423T102834
CREATED:20221127T225814Z
LAST-MODIFIED:20230406T173347Z
UID:3338-1684402200-1684407600@eac-oc.com
SUMMARY:2023/Q2 Conflict Resolution: Engaging Disengaged Employees
DESCRIPTION:Presented by\nCarol Marzouk\nLeadership ‘n Soul\nThursday – May 18\, 2023 @ 9:30am on ZOOM\nDisengaged folks are a toxic virus running through the veins of your company. They set out to ruin your company and have you bleeding money.  Engaged folks are 100% psychologically committed to your company. They will create engaged\, loyal customers and increase your profits!\nFREE Registration for EAC Members: Click Here
URL:https://eac-oc.com/events/q2-2023-conflict-resolution/
LOCATION:Online Webinar
CATEGORIES:Webinar
ATTACH;FMTTYPE=image/jpeg:https://eac-oc.com/wp-content/uploads/2023/04/disengaged_employees_stealing_594.jpg
ORGANIZER;CN="EAC-OC":MAILTO:info@eac-oc.com
END:VEVENT
BEGIN:VEVENT
DTSTART;TZID=America/Los_Angeles:20230413T093000
DTEND;TZID=America/Los_Angeles:20230413T110000
DTSTAMP:20260423T102834
CREATED:20221127T225716Z
LAST-MODIFIED:20230316T182650Z
UID:3336-1681378200-1681383600@eac-oc.com
SUMMARY:2023/Q2 HotLine Update
DESCRIPTION:
URL:https://eac-oc.com/events/2023-q2/
LOCATION:Online Webinar
CATEGORIES:Webinar
ORGANIZER;CN="EAC-OC":MAILTO:info@eac-oc.com
END:VEVENT
BEGIN:VEVENT
DTSTART;TZID=America/Los_Angeles:20230316T093000
DTEND;TZID=America/Los_Angeles:20230316T110000
DTSTAMP:20260423T102834
CREATED:20221117T162141Z
LAST-MODIFIED:20230316T182729Z
UID:3225-1678959000-1678964400@eac-oc.com
SUMMARY:Leaves of Absence
DESCRIPTION:California provides employees with more leaves of absence than any other state.  To ensure productivity and avoid costly litigation\, learn about the various leaves available to employees as well as the employee obligations the employer can explore.
URL:https://eac-oc.com/events/leaves-of-absence/
LOCATION:Online Webinar
CATEGORIES:Webinar
ORGANIZER;CN="EAC-OC":MAILTO:info@eac-oc.com
END:VEVENT
BEGIN:VEVENT
DTSTART;TZID=America/Los_Angeles:20230309T093000
DTEND;TZID=America/Los_Angeles:20230309T110000
DTSTAMP:20260423T102834
CREATED:20230216T171222Z
LAST-MODIFIED:20230223T154148Z
UID:3424-1678354200-1678359600@eac-oc.com
SUMMARY:Violence Can Affect Every Workplace: Learn How To Be Better Prepared
DESCRIPTION:We are all aware of the numerous recent mass shootings that have occurred across our country in recent weeks\, each of which has left shattered lives in its wake. These tragedies have occurred in a variety of settings\, including college campuses\, retail settings\, nightlife locations\, and simply in streets and neighborhoods throughout America. Clearly\, violence can happen in any place\, and almost all of the locations where these shootings took place were workplaces of some sort.\n\nHowever\, there are core lessons that community leaders and employers can take from these incidents to be better prepared should they be confronted with a violent incident.\n\nOur expert speaker\, attorney Michael R. Watts\, with Atkinson\, Andelson\, Loya\, Ruud & Romo\, focuses his practice on training and advising clients regarding workplace violence and safety issues. Because his information is so timely and important\, the Orange County EAC is offering this program free of charge to all EAC members in California. Here are some of the key areas that Michael will cover in his presentation:\n\n\nWhy preparation is critical—and how to better prepare.\nIt is the employer’s duty to provide a safe workplace\, including the development of strong workplace anti-violence policies.\nWhy a Workplace Violence Prevention Plan (WVPP) may soon be a requirement for all employers.\nFree training resources that should be a part of your workplace violence prevention plan.\n\nWhile the risk of workplace violence can never be fully mitigated\, the above information could be vital for the safety and protection of your employees.\nDo not miss this timely and important program.\n9:30 a.m. on Thursday\, March 9. REGISTER TODAY!
URL:https://eac-oc.com/events/violence-can-affect-every-workplace-learn-how-to-be-better-prepared/
LOCATION:Online Webinar
CATEGORIES:Webinar
ATTACH;FMTTYPE=image/jpeg:https://eac-oc.com/wp-content/uploads/2023/02/workplace-violence-blog_d4bd353bac6a5f3a10ab94d9650d3531.jpg
ORGANIZER;CN="EAC-OC":MAILTO:info@eac-oc.com
END:VEVENT
BEGIN:VEVENT
DTSTART;TZID=America/Los_Angeles:20230223T093000
DTEND;TZID=America/Los_Angeles:20230223T113000
DTSTAMP:20260423T102834
CREATED:20221117T161951Z
LAST-MODIFIED:20221117T161952Z
UID:3223-1677144600-1677151800@eac-oc.com
SUMMARY:Getting Workplace Investigations Right
DESCRIPTION:The When\, Why\, Who and How\nThis program will cover legal requirements and issues related to workplace investigations\, with an emphasis on best practices and compliance with legal obligations.
URL:https://eac-oc.com/events/getting-workplace-investigations-right/
LOCATION:Online Webinar
CATEGORIES:Webinar
ORGANIZER;CN="EAC-OC":MAILTO:info@eac-oc.com
END:VEVENT
BEGIN:VEVENT
DTSTART;TZID=America/Los_Angeles:20230216T093000
DTEND;TZID=America/Los_Angeles:20230216T113000
DTSTAMP:20260423T102834
CREATED:20221117T162847Z
LAST-MODIFIED:20221117T162850Z
UID:3228-1676539800-1676547000@eac-oc.com
SUMMARY:2023/Q1 Conflict Resolution Program
DESCRIPTION:Each quarter\, a top behavioral strategist and corporate relationship coach will share important techniques to improve your employees’ engagement\, teamwork\, and communication.
URL:https://eac-oc.com/events/2023-q1-conflict-resolution-program-2/
LOCATION:Online Webinar
CATEGORIES:Webinar
ORGANIZER;CN="EAC-OC":MAILTO:info@eac-oc.com
END:VEVENT
BEGIN:VEVENT
DTSTART;TZID=America/Los_Angeles:20230119T093000
DTEND;TZID=America/Los_Angeles:20230119T113000
DTSTAMP:20260423T102834
CREATED:20221117T161605Z
LAST-MODIFIED:20221117T162546Z
UID:3219-1674120600-1674127800@eac-oc.com
SUMMARY:2023/Q1 Hot Topics from the Hot Line
DESCRIPTION:Each quarter\, one of the CEAC’s top Hot Line attorneys will share some of the most current and frequently asked questions and answers from the management Hot Line.
URL:https://eac-oc.com/events/2023-q1-hot-topics-from-the-ceac-hot-line/
LOCATION:Online Webinar
CATEGORIES:Webinar
END:VEVENT
BEGIN:VEVENT
DTSTART;TZID=America/Los_Angeles:20221127T134430
DTEND;TZID=America/Los_Angeles:20221127T134430
DTSTAMP:20260423T102834
CREATED:20211222T215145Z
LAST-MODIFIED:20211222T215145Z
UID:2699-1669556670-1669556670@eac-oc.com
SUMMARY:Documentation\, Discipline\, Discharge
DESCRIPTION:
URL:https://eac-oc.com/events/documentation-discipline-discharge/
CATEGORIES:Webinar
END:VEVENT
BEGIN:VEVENT
DTSTART;TZID=America/Los_Angeles:20221127T134430
DTEND;TZID=America/Los_Angeles:20221127T134430
DTSTAMP:20260423T102834
CREATED:20201210T101949Z
LAST-MODIFIED:20201210T101949Z
UID:1988-1669556670-1669556670@eac-oc.com
SUMMARY:Sexual Harassment Training for Managers
DESCRIPTION:
URL:https://eac-oc.com/events/sexual-harassment-training-for-managers/
CATEGORIES:Webinar
END:VEVENT
BEGIN:VEVENT
DTSTART;TZID=America/Los_Angeles:20221117T093000
DTEND;TZID=America/Los_Angeles:20221117T113000
DTSTAMP:20260423T102834
CREATED:20211222T223640Z
LAST-MODIFIED:20220915T192628Z
UID:2705-1668677400-1668684600@eac-oc.com
SUMMARY:Wage & Hours
DESCRIPTION:Wage and Hour claims brought by current and former employees have resulted in employers of all sizes paying substantial settlements.  This challenge could worsen this year since some of the new legislation threatens larger penalties for noncompliance.\nOur annual Wage and Hours program\, presented by attorney Jim Hart\, will provide you with the latest information and show you how to better protect yourself against the never ending changes in this crucial area.\nRegister Here:  https://4be.ad4.myftpupload.com/register\n 
URL:https://eac-oc.com/events/wage-hours/
LOCATION:Online Webinar
CATEGORIES:Webinar
ATTACH;FMTTYPE=image/jpeg:https://eac-oc.com/wp-content/uploads/2021/12/c_scalefl_progressiveq_80w_800-800x482-1.jpg
ORGANIZER;CN="EAC-OC":MAILTO:info@eac-oc.com
END:VEVENT
END:VCALENDAR