BEGIN:VCALENDAR
VERSION:2.0
PRODID:-//Employer Advisory Council of Orange County, Inc. - ECPv6.15.20//NONSGML v1.0//EN
CALSCALE:GREGORIAN
METHOD:PUBLISH
X-WR-CALNAME:Employer Advisory Council of Orange County, Inc.
X-ORIGINAL-URL:https://eac-oc.com
X-WR-CALDESC:Events for Employer Advisory Council of Orange County, Inc.
REFRESH-INTERVAL;VALUE=DURATION:PT1H
X-Robots-Tag:noindex
X-PUBLISHED-TTL:PT1H
BEGIN:VTIMEZONE
TZID:America/Los_Angeles
BEGIN:DAYLIGHT
TZOFFSETFROM:-0800
TZOFFSETTO:-0700
TZNAME:PDT
DTSTART:20200308T100000
END:DAYLIGHT
BEGIN:STANDARD
TZOFFSETFROM:-0700
TZOFFSETTO:-0800
TZNAME:PST
DTSTART:20201101T090000
END:STANDARD
BEGIN:DAYLIGHT
TZOFFSETFROM:-0800
TZOFFSETTO:-0700
TZNAME:PDT
DTSTART:20210314T100000
END:DAYLIGHT
BEGIN:STANDARD
TZOFFSETFROM:-0700
TZOFFSETTO:-0800
TZNAME:PST
DTSTART:20211107T090000
END:STANDARD
BEGIN:DAYLIGHT
TZOFFSETFROM:-0800
TZOFFSETTO:-0700
TZNAME:PDT
DTSTART:20220313T100000
END:DAYLIGHT
BEGIN:STANDARD
TZOFFSETFROM:-0700
TZOFFSETTO:-0800
TZNAME:PST
DTSTART:20221106T090000
END:STANDARD
BEGIN:DAYLIGHT
TZOFFSETFROM:-0800
TZOFFSETTO:-0700
TZNAME:PDT
DTSTART:20230312T100000
END:DAYLIGHT
BEGIN:STANDARD
TZOFFSETFROM:-0700
TZOFFSETTO:-0800
TZNAME:PST
DTSTART:20231105T090000
END:STANDARD
BEGIN:DAYLIGHT
TZOFFSETFROM:-0800
TZOFFSETTO:-0700
TZNAME:PDT
DTSTART:20240310T100000
END:DAYLIGHT
BEGIN:STANDARD
TZOFFSETFROM:-0700
TZOFFSETTO:-0800
TZNAME:PST
DTSTART:20241103T090000
END:STANDARD
END:VTIMEZONE
BEGIN:VEVENT
DTSTART;TZID=America/Los_Angeles:20230615T093000
DTEND;TZID=America/Los_Angeles:20230615T110000
DTSTAMP:20260423T125223
CREATED:20221127T225941Z
LAST-MODIFIED:20230316T182552Z
UID:3340-1686821400-1686826800@eac-oc.com
SUMMARY:Disability 101: Reasonable Accommodation
DESCRIPTION:
URL:https://eac-oc.com/events/disability-101-reasonable-accommodation/
LOCATION:Online Webinar
CATEGORIES:Webinar
ORGANIZER;CN="EAC-OC":MAILTO:info@eac-oc.com
END:VEVENT
BEGIN:VEVENT
DTSTART;TZID=America/Los_Angeles:20230518T093000
DTEND;TZID=America/Los_Angeles:20230518T110000
DTSTAMP:20260423T125223
CREATED:20221127T225814Z
LAST-MODIFIED:20230406T173347Z
UID:3338-1684402200-1684407600@eac-oc.com
SUMMARY:2023/Q2 Conflict Resolution: Engaging Disengaged Employees
DESCRIPTION:Presented by\nCarol Marzouk\nLeadership ‘n Soul\nThursday – May 18\, 2023 @ 9:30am on ZOOM\nDisengaged folks are a toxic virus running through the veins of your company. They set out to ruin your company and have you bleeding money.  Engaged folks are 100% psychologically committed to your company. They will create engaged\, loyal customers and increase your profits!\nFREE Registration for EAC Members: Click Here
URL:https://eac-oc.com/events/q2-2023-conflict-resolution/
LOCATION:Online Webinar
CATEGORIES:Webinar
ATTACH;FMTTYPE=image/jpeg:https://eac-oc.com/wp-content/uploads/2023/04/disengaged_employees_stealing_594.jpg
ORGANIZER;CN="EAC-OC":MAILTO:info@eac-oc.com
END:VEVENT
BEGIN:VEVENT
DTSTART;TZID=America/Los_Angeles:20230413T093000
DTEND;TZID=America/Los_Angeles:20230413T110000
DTSTAMP:20260423T125223
CREATED:20221127T225716Z
LAST-MODIFIED:20230316T182650Z
UID:3336-1681378200-1681383600@eac-oc.com
SUMMARY:2023/Q2 HotLine Update
DESCRIPTION:
URL:https://eac-oc.com/events/2023-q2/
LOCATION:Online Webinar
CATEGORIES:Webinar
ORGANIZER;CN="EAC-OC":MAILTO:info@eac-oc.com
END:VEVENT
BEGIN:VEVENT
DTSTART;TZID=America/Los_Angeles:20230316T093000
DTEND;TZID=America/Los_Angeles:20230316T110000
DTSTAMP:20260423T125223
CREATED:20221117T162141Z
LAST-MODIFIED:20230316T182729Z
UID:3225-1678959000-1678964400@eac-oc.com
SUMMARY:Leaves of Absence
DESCRIPTION:California provides employees with more leaves of absence than any other state.  To ensure productivity and avoid costly litigation\, learn about the various leaves available to employees as well as the employee obligations the employer can explore.
URL:https://eac-oc.com/events/leaves-of-absence/
LOCATION:Online Webinar
CATEGORIES:Webinar
ORGANIZER;CN="EAC-OC":MAILTO:info@eac-oc.com
END:VEVENT
BEGIN:VEVENT
DTSTART;TZID=America/Los_Angeles:20230309T093000
DTEND;TZID=America/Los_Angeles:20230309T110000
DTSTAMP:20260423T125223
CREATED:20230216T171222Z
LAST-MODIFIED:20230223T154148Z
UID:3424-1678354200-1678359600@eac-oc.com
SUMMARY:Violence Can Affect Every Workplace: Learn How To Be Better Prepared
DESCRIPTION:We are all aware of the numerous recent mass shootings that have occurred across our country in recent weeks\, each of which has left shattered lives in its wake. These tragedies have occurred in a variety of settings\, including college campuses\, retail settings\, nightlife locations\, and simply in streets and neighborhoods throughout America. Clearly\, violence can happen in any place\, and almost all of the locations where these shootings took place were workplaces of some sort.\n\nHowever\, there are core lessons that community leaders and employers can take from these incidents to be better prepared should they be confronted with a violent incident.\n\nOur expert speaker\, attorney Michael R. Watts\, with Atkinson\, Andelson\, Loya\, Ruud & Romo\, focuses his practice on training and advising clients regarding workplace violence and safety issues. Because his information is so timely and important\, the Orange County EAC is offering this program free of charge to all EAC members in California. Here are some of the key areas that Michael will cover in his presentation:\n\n\nWhy preparation is critical—and how to better prepare.\nIt is the employer’s duty to provide a safe workplace\, including the development of strong workplace anti-violence policies.\nWhy a Workplace Violence Prevention Plan (WVPP) may soon be a requirement for all employers.\nFree training resources that should be a part of your workplace violence prevention plan.\n\nWhile the risk of workplace violence can never be fully mitigated\, the above information could be vital for the safety and protection of your employees.\nDo not miss this timely and important program.\n9:30 a.m. on Thursday\, March 9. REGISTER TODAY!
URL:https://eac-oc.com/events/violence-can-affect-every-workplace-learn-how-to-be-better-prepared/
LOCATION:Online Webinar
CATEGORIES:Webinar
ATTACH;FMTTYPE=image/jpeg:https://eac-oc.com/wp-content/uploads/2023/02/workplace-violence-blog_d4bd353bac6a5f3a10ab94d9650d3531.jpg
ORGANIZER;CN="EAC-OC":MAILTO:info@eac-oc.com
END:VEVENT
BEGIN:VEVENT
DTSTART;TZID=America/Los_Angeles:20230223T093000
DTEND;TZID=America/Los_Angeles:20230223T113000
DTSTAMP:20260423T125223
CREATED:20221117T161951Z
LAST-MODIFIED:20221117T161952Z
UID:3223-1677144600-1677151800@eac-oc.com
SUMMARY:Getting Workplace Investigations Right
DESCRIPTION:The When\, Why\, Who and How\nThis program will cover legal requirements and issues related to workplace investigations\, with an emphasis on best practices and compliance with legal obligations.
URL:https://eac-oc.com/events/getting-workplace-investigations-right/
LOCATION:Online Webinar
CATEGORIES:Webinar
ORGANIZER;CN="EAC-OC":MAILTO:info@eac-oc.com
END:VEVENT
BEGIN:VEVENT
DTSTART;TZID=America/Los_Angeles:20230216T093000
DTEND;TZID=America/Los_Angeles:20230216T113000
DTSTAMP:20260423T125223
CREATED:20221117T162847Z
LAST-MODIFIED:20221117T162850Z
UID:3228-1676539800-1676547000@eac-oc.com
SUMMARY:2023/Q1 Conflict Resolution Program
DESCRIPTION:Each quarter\, a top behavioral strategist and corporate relationship coach will share important techniques to improve your employees’ engagement\, teamwork\, and communication.
URL:https://eac-oc.com/events/2023-q1-conflict-resolution-program-2/
LOCATION:Online Webinar
CATEGORIES:Webinar
ORGANIZER;CN="EAC-OC":MAILTO:info@eac-oc.com
END:VEVENT
BEGIN:VEVENT
DTSTART;TZID=America/Los_Angeles:20230119T093000
DTEND;TZID=America/Los_Angeles:20230119T113000
DTSTAMP:20260423T125223
CREATED:20221117T161605Z
LAST-MODIFIED:20221117T162546Z
UID:3219-1674120600-1674127800@eac-oc.com
SUMMARY:2023/Q1 Hot Topics from the Hot Line
DESCRIPTION:Each quarter\, one of the CEAC’s top Hot Line attorneys will share some of the most current and frequently asked questions and answers from the management Hot Line.
URL:https://eac-oc.com/events/2023-q1-hot-topics-from-the-ceac-hot-line/
LOCATION:Online Webinar
CATEGORIES:Webinar
END:VEVENT
BEGIN:VEVENT
DTSTART;TZID=America/Los_Angeles:20221127T134430
DTEND;TZID=America/Los_Angeles:20221127T134430
DTSTAMP:20260423T125223
CREATED:20211222T215145Z
LAST-MODIFIED:20211222T215145Z
UID:2699-1669556670-1669556670@eac-oc.com
SUMMARY:Documentation\, Discipline\, Discharge
DESCRIPTION:
URL:https://eac-oc.com/events/documentation-discipline-discharge/
CATEGORIES:Webinar
END:VEVENT
BEGIN:VEVENT
DTSTART;TZID=America/Los_Angeles:20221127T134430
DTEND;TZID=America/Los_Angeles:20221127T134430
DTSTAMP:20260423T125223
CREATED:20201210T101949Z
LAST-MODIFIED:20201210T101949Z
UID:1988-1669556670-1669556670@eac-oc.com
SUMMARY:Sexual Harassment Training for Managers
DESCRIPTION:
URL:https://eac-oc.com/events/sexual-harassment-training-for-managers/
CATEGORIES:Webinar
END:VEVENT
BEGIN:VEVENT
DTSTART;TZID=America/Los_Angeles:20221117T093000
DTEND;TZID=America/Los_Angeles:20221117T113000
DTSTAMP:20260423T125223
CREATED:20211222T223640Z
LAST-MODIFIED:20220915T192628Z
UID:2705-1668677400-1668684600@eac-oc.com
SUMMARY:Wage & Hours
DESCRIPTION:Wage and Hour claims brought by current and former employees have resulted in employers of all sizes paying substantial settlements.  This challenge could worsen this year since some of the new legislation threatens larger penalties for noncompliance.\nOur annual Wage and Hours program\, presented by attorney Jim Hart\, will provide you with the latest information and show you how to better protect yourself against the never ending changes in this crucial area.\nRegister Here:  https://4be.ad4.myftpupload.com/register\n 
URL:https://eac-oc.com/events/wage-hours/
LOCATION:Online Webinar
CATEGORIES:Webinar
ATTACH;FMTTYPE=image/jpeg:https://eac-oc.com/wp-content/uploads/2021/12/c_scalefl_progressiveq_80w_800-800x482-1.jpg
ORGANIZER;CN="EAC-OC":MAILTO:info@eac-oc.com
END:VEVENT
BEGIN:VEVENT
DTSTART;TZID=America/Los_Angeles:20221020T093000
DTEND;TZID=America/Los_Angeles:20221020T113000
DTSTAMP:20260423T125223
CREATED:20211222T214928Z
LAST-MODIFIED:20220915T192751Z
UID:2697-1666258200-1666265400@eac-oc.com
SUMMARY:2022|Q4 Hot Line Update
DESCRIPTION:Anita York\, one of the CEAC’s Hot Line attorneys will share important updates as well as some of the most current and critical questions and answers from the Management Hot Line.  This fast moving and informative program\, presented on a quarterly basis\, has become of our our most popular programs.  Join us to receive all of the latest information.\nRegister Here:  https://us06web.zoom.us/meeting/register/tZYqdOytrjIqG9NeSwPGnIQUUBWqkbKWIMwz
URL:https://eac-oc.com/events/2022q4-hot-line-update/
LOCATION:Online Webinar
CATEGORIES:Webinar
ATTACH;FMTTYPE=image/jpeg:https://eac-oc.com/wp-content/uploads/2020/12/woman-on-phone-e1457624562884.jpg
ORGANIZER;CN="EAC-OC":MAILTO:info@eac-oc.com
END:VEVENT
BEGIN:VEVENT
DTSTART;TZID=America/Los_Angeles:20220929T093000
DTEND;TZID=America/Los_Angeles:20220929T113000
DTSTAMP:20260423T125223
CREATED:20220223T200756Z
LAST-MODIFIED:20220915T192412Z
UID:2938-1664443800-1664451000@eac-oc.com
SUMMARY:Employee Handbook Updates for 2022
DESCRIPTION:Learn the best organization of handbook topics as well as the crucial items to cover in each of them.  Have your own handbook available during the presentation to compare with the expert recommendations.\nRegister Here:  https://4be.ad4.myftpupload.com/register/
URL:https://eac-oc.com/events/employee-handbook-updates-for-2022/
LOCATION:Online Webinar
CATEGORIES:Webinar
ATTACH;FMTTYPE=image/jpeg:https://eac-oc.com/wp-content/uploads/2022/02/AdobeStock_451578154.jpeg
ORGANIZER;CN="EAC-OC":MAILTO:info@eac-oc.com
END:VEVENT
BEGIN:VEVENT
DTSTART;TZID=America/Los_Angeles:20220915T093000
DTEND;TZID=America/Los_Angeles:20220915T113000
DTSTAMP:20260423T125223
CREATED:20211222T221439Z
LAST-MODIFIED:20220308T192212Z
UID:2701-1663234200-1663241400@eac-oc.com
SUMMARY:Documentation\, Discipline\, Discharge
DESCRIPTION:IMPORTANT NOTE:\nDate change for Documentation\, Discipline\, Discharge to\nThursday\, September 15\, 2022 @ 9:30am\nThis year\, we are excited to bring back one of our most popular and highly attended programs in our history.  the above program\, better known as “DDD” is based on the best selling publication of the same name\, and will be presented by one of its authors\, attorney Anita York. \nThis presentation is about the “WHY” and “HOW” of documentation\, from personnel and payroll records to effective documentation  and why it matters; and from discipline considerations to steps to take during pre-hire\, during employment\, and after employment ends.  You cannot afford to miss this important program.
URL:https://eac-oc.com/events/documentation-discipline-discharge-2/
LOCATION:Online Webinar
CATEGORIES:Webinar
ATTACH;FMTTYPE=image/jpeg:https://eac-oc.com/wp-content/uploads/2021/12/51vgf-0Q3GL.jpg
ORGANIZER;CN="EAC-OC":MAILTO:info@eac-oc.com
END:VEVENT
BEGIN:VEVENT
DTSTART;TZID=America/Los_Angeles:20220811T093000
DTEND;TZID=America/Los_Angeles:20220811T113000
DTSTAMP:20260423T125223
CREATED:20220223T200918Z
LAST-MODIFIED:20220223T202050Z
UID:2940-1660210200-1660217400@eac-oc.com
SUMMARY:Moving from Conflict to Compassion
DESCRIPTION:Have you ever met a leader who was “leading” from a place of fear\, insecurity\, and doubt instead of strength and trust?  Carol elevates the executives’ intrinsic ability to lead and extracts any poor behaviors that destroys trust and obstructs progress and growth. Often called “insightful” and “intuitive”\, Carol is comfortable with asking the tough questions and will ensure that leaders and teams get to the heart of the matter.  Through her creative methods\, participants are sure to discover new ideas\, develop practical techniques\, and have fun in the process!
URL:https://eac-oc.com/events/moving-from-conflict-to-compassion/
LOCATION:Online Webinar
CATEGORIES:Webinar
ATTACH;FMTTYPE=image/jpeg:https://eac-oc.com/wp-content/uploads/2022/02/20150723160831-conflict-in-the-office-man-vs-woman.jpeg
ORGANIZER;CN="EAC-OC":MAILTO:info@eac-oc.com
END:VEVENT
BEGIN:VEVENT
DTSTART;TZID=America/Los_Angeles:20220721T093000
DTEND;TZID=America/Los_Angeles:20220721T113000
DTSTAMP:20260423T125223
CREATED:20211222T214823Z
LAST-MODIFIED:20220223T201903Z
UID:2695-1658395800-1658403000@eac-oc.com
SUMMARY:2022|Q3 Hot Line Update
DESCRIPTION:Anita York\, one of the CEAC’s Hot Line attorneys will share important updates as well as some of the most current and critical questions and answers from the Management Hot Line.  This fast moving and informative program\, presented on a quarterly basis\, has become of our our most popular programs.  Join us to receive all of the latest information.
URL:https://eac-oc.com/events/2022q3-hot-line-update/
LOCATION:Online Webinar
CATEGORIES:Webinar
ATTACH;FMTTYPE=image/jpeg:https://eac-oc.com/wp-content/uploads/2022/01/GettyImages-905533868.jpg
ORGANIZER;CN="EAC-OC":MAILTO:info@eac-oc.com
END:VEVENT
BEGIN:VEVENT
DTSTART;TZID=America/Los_Angeles:20220525T093000
DTEND;TZID=America/Los_Angeles:20220525T113000
DTSTAMP:20260423T125223
CREATED:20211222T214540Z
LAST-MODIFIED:20220421T210521Z
UID:2691-1653471000-1653478200@eac-oc.com
SUMMARY:Employee Benefits
DESCRIPTION:Company benefit programs remain an important element in attracting and retaining quality employees.  Our expert speaker\, Sheldon Blumling\, is a partner at the law firm of Fisher Phillips\, and chairs their Employee Benefits Practice Group.  This program will assist you in planning benefit changes in the COVID-19 era. \n\nWays benefit programs will change in the upcoming years\nBenefit options for you to consider\nImportant compliance issues you need to understand\nHow and when to make changes to your benefits\nHow your benefits program can help you to attract and keep your employees
URL:https://eac-oc.com/events/employee-benefits-3/
LOCATION:Online Webinar
CATEGORIES:Webinar
ATTACH;FMTTYPE=image/jpeg:https://eac-oc.com/wp-content/uploads/2021/12/importance-of-employee-benefits-e1640215482700.jpeg
ORGANIZER;CN="EAC-OC":MAILTO:info@eac-oc.com
END:VEVENT
BEGIN:VEVENT
DTSTART;TZID=America/Los_Angeles:20220421T093000
DTEND;TZID=America/Los_Angeles:20220421T113000
DTSTAMP:20260423T125223
CREATED:20211222T214722Z
LAST-MODIFIED:20220223T201711Z
UID:2693-1650533400-1650540600@eac-oc.com
SUMMARY:2022|Q2 Hot Line Update
DESCRIPTION:Anita York\, one of the CEAC’s Hot Line attorneys will share important updates as well as some of the most current and critical questions and answers from the Management Hot Line.  This fast moving and informative program\, presented on a quarterly basis\, has become of our our most popular programs.  Join us to receive all of the latest information.
URL:https://eac-oc.com/events/2022q2-hot-line-update/
LOCATION:Online Webinar
CATEGORIES:Webinar
ATTACH;FMTTYPE=image/jpeg:https://eac-oc.com/wp-content/uploads/2022/01/legal_hotline_tile.jpg
ORGANIZER;CN="EAC-OC":MAILTO:info@eac-oc.com
END:VEVENT
BEGIN:VEVENT
DTSTART;TZID=America/Los_Angeles:20220216T093000
DTEND;TZID=America/Los_Angeles:20220216T113000
DTSTAMP:20260423T125223
CREATED:20211222T214350Z
LAST-MODIFIED:20220117T183928Z
UID:2689-1645003800-1645011000@eac-oc.com
SUMMARY:Toxic to Productive Employees in 9 Easy Steps
DESCRIPTION:
URL:https://eac-oc.com/events/toxic-to-productive-employees-in-9-easy-steps/
LOCATION:Online Webinar
CATEGORIES:Webinar
ATTACH;FMTTYPE=image/png:https://eac-oc.com/wp-content/uploads/2022/01/feature-image_toxic-employees.png
ORGANIZER;CN="EAC-OC":MAILTO:info@eac-oc.com
END:VEVENT
BEGIN:VEVENT
DTSTART;TZID=America/Los_Angeles:20220127T093000
DTEND;TZID=America/Los_Angeles:20220127T113000
DTSTAMP:20260423T125223
CREATED:20211222T214124Z
LAST-MODIFIED:20220117T175918Z
UID:2687-1643275800-1643283000@eac-oc.com
SUMMARY:2022|Q1 Hot Line Update
DESCRIPTION:
URL:https://eac-oc.com/events/2022q1-hot-line-update/
LOCATION:Online Webinar
CATEGORIES:Webinar
ATTACH;FMTTYPE=image/jpeg:https://eac-oc.com/wp-content/uploads/2021/12/LEGAL-HOTLINE_Busy-broker_0.jpg
ORGANIZER;CN="EAC-OC":MAILTO:info@eac-oc.com
END:VEVENT
BEGIN:VEVENT
DTSTART;TZID=America/Los_Angeles:20220113T093000
DTEND;TZID=America/Los_Angeles:20220113T113000
DTSTAMP:20260423T125223
CREATED:20211222T213850Z
LAST-MODIFIED:20211228T185420Z
UID:2685-1642066200-1642073400@eac-oc.com
SUMMARY:2022 New Laws
DESCRIPTION:
URL:https://eac-oc.com/events/2022-new-laws/
LOCATION:Online Webinar
CATEGORIES:Webinar
ATTACH;FMTTYPE=image/jpeg:https://eac-oc.com/wp-content/uploads/2021/12/Changes2022-e1640217028631.jpg
ORGANIZER;CN="EAC-OC":MAILTO:info@eac-oc.com
END:VEVENT
BEGIN:VEVENT
DTSTART;TZID=America/Los_Angeles:20211209T013000
DTEND;TZID=America/Los_Angeles:20211209T030000
DTSTAMP:20260423T125223
CREATED:20201210T102203Z
LAST-MODIFIED:20201211T075223Z
UID:1994-1639013400-1639018800@eac-oc.com
SUMMARY:Annual Wage & Hour Update
DESCRIPTION:
URL:https://eac-oc.com/events/annual-wage-hour-update/
LOCATION:Online Webinar
CATEGORIES:Webinar
ATTACH;FMTTYPE=image/jpeg:https://eac-oc.com/wp-content/uploads/2020/12/Hourly-Wages.jpg
ORGANIZER;CN="EAC-OC":MAILTO:info@eac-oc.com
END:VEVENT
BEGIN:VEVENT
DTSTART;TZID=America/Los_Angeles:20211118T013000
DTEND;TZID=America/Los_Angeles:20211118T033000
DTSTAMP:20260423T125223
CREATED:20201210T102113Z
LAST-MODIFIED:20201211T075133Z
UID:1992-1637199000-1637206200@eac-oc.com
SUMMARY:Sexual Harassment Training for Managers
DESCRIPTION:
URL:https://eac-oc.com/events/sexual-harassment-training-for-managers-2/
LOCATION:Online Webinar
CATEGORIES:Webinar
ATTACH;FMTTYPE=image/jpeg:https://eac-oc.com/wp-content/uploads/2020/12/sexual-harassment-in-the-workplace.jpg
ORGANIZER;CN="EAC-OC":MAILTO:info@eac-oc.com
END:VEVENT
BEGIN:VEVENT
DTSTART;TZID=America/Los_Angeles:20211021T023000
DTEND;TZID=America/Los_Angeles:20211021T040000
DTSTAMP:20260423T125223
CREATED:20201210T101847Z
LAST-MODIFIED:20210101T024410Z
UID:1986-1634783400-1634788800@eac-oc.com
SUMMARY:2021-Q4:  EAC Hot Line Update
DESCRIPTION:
URL:https://eac-oc.com/events/2021-q4-eac-hot-line-update/
LOCATION:Online Webinar
CATEGORIES:Webinar
ATTACH;FMTTYPE=image/jpeg:https://eac-oc.com/wp-content/uploads/2020/12/telephone-companies-in-Florida.jpg
ORGANIZER;CN="EAC-OC":MAILTO:info@eac-oc.com
END:VEVENT
BEGIN:VEVENT
DTSTART;TZID=America/Los_Angeles:20210916T023000
DTEND;TZID=America/Los_Angeles:20210916T040000
DTSTAMP:20260423T125223
CREATED:20201210T101759Z
LAST-MODIFIED:20201211T075006Z
UID:1984-1631759400-1631764800@eac-oc.com
SUMMARY:Harassment & Discrimination Issues
DESCRIPTION:
URL:https://eac-oc.com/events/harassment-discrimination-issues/
LOCATION:Online Webinar
CATEGORIES:Webinar
ATTACH;FMTTYPE=image/jpeg:https://eac-oc.com/wp-content/uploads/2020/12/Harassment.jpg
ORGANIZER;CN="EAC-OC":MAILTO:info@eac-oc.com
END:VEVENT
BEGIN:VEVENT
DTSTART;TZID=America/Los_Angeles:20210819T023000
DTEND;TZID=America/Los_Angeles:20210819T040000
DTSTAMP:20260423T125223
CREATED:20201210T101713Z
LAST-MODIFIED:20201211T074905Z
UID:1982-1629340200-1629345600@eac-oc.com
SUMMARY:Workplace Investigations
DESCRIPTION:
URL:https://eac-oc.com/events/workplace-investigations/
LOCATION:Online Webinar
CATEGORIES:Webinar
ATTACH;FMTTYPE=image/jpeg:https://eac-oc.com/wp-content/uploads/2020/12/workplace-investigations-1024x683-1.jpeg
ORGANIZER;CN="EAC-OC":MAILTO:info@eac-oc.com
END:VEVENT
BEGIN:VEVENT
DTSTART;TZID=America/Los_Angeles:20210805T023000
DTEND;TZID=America/Los_Angeles:20210805T040000
DTSTAMP:20260423T125223
CREATED:20210622T054242Z
LAST-MODIFIED:20210622T054557Z
UID:2397-1628130600-1628136000@eac-oc.com
SUMMARY:COVID-19 Wrap-Up: Closing Out COVID and Looking Forward to the Year Ahead
DESCRIPTION:With the State of California reopening in June\, employers are tying up loose ends on lingering COVID laws and looking ahead at the landscape of the remainder of 2021 as their employees begin returning to the office. During this one-hour webinar\, Miranda Watkins and Haylee Saathoff\, labor and employment attorneys of Fisher Phillips\, will take you through the transition out of COVID and into the second half of 2021. Learn how to continue protecting your company\, when some current COVID laws expire\, what rules still apply\, and next steps to help you flourish post-pandemic. This presentation is scheduled for 60 minutes total  with 45 – 50 minutes for presentation time and 10 – 15 minutes for Q&A. \nRegister for FREE Webinar at https://zoom.us/meeting/register/tJckf-iopjgsGtKCSSuOV7kdN-KkEYF2KUv6
URL:https://eac-oc.com/events/covid-19-wrap-up-closing-out-covid-and-looking-forward-to-the-year-ahead/
LOCATION:Online Webinar
CATEGORIES:Webinar
ATTACH;FMTTYPE=image/jpeg:https://eac-oc.com/wp-content/uploads/2021/06/saa-mtcwmza4nzq5mq-1.jpg
ORGANIZER;CN="EAC-OC":MAILTO:info@eac-oc.com
END:VEVENT
BEGIN:VEVENT
DTSTART;TZID=America/Los_Angeles:20210722T023000
DTEND;TZID=America/Los_Angeles:20210722T040000
DTSTAMP:20260423T125223
CREATED:20201210T101622Z
LAST-MODIFIED:20201211T074804Z
UID:1980-1626921000-1626926400@eac-oc.com
SUMMARY:Managing Toxic Employees
DESCRIPTION:
URL:https://eac-oc.com/events/managing-toxic-employees/
LOCATION:Online Webinar
CATEGORIES:Webinar
ATTACH;FMTTYPE=image/jpeg:https://eac-oc.com/wp-content/uploads/2020/12/toxic_employees-1.jpg
ORGANIZER;CN="EAC-OC":MAILTO:info@eac-oc.com
END:VEVENT
BEGIN:VEVENT
DTSTART;TZID=America/Los_Angeles:20210715T023000
DTEND;TZID=America/Los_Angeles:20210715T040000
DTSTAMP:20260423T125223
CREATED:20201210T101413Z
LAST-MODIFIED:20210101T024526Z
UID:1978-1626316200-1626321600@eac-oc.com
SUMMARY:2021-Q3:  EAC Hot Line Update
DESCRIPTION:
URL:https://eac-oc.com/events/2021-q3-eac-hot-line-update/
LOCATION:Online Webinar
CATEGORIES:Webinar
ATTACH;FMTTYPE=image/jpeg:https://eac-oc.com/wp-content/uploads/2020/12/1.jpg
ORGANIZER;CN="EAC-OC":MAILTO:info@eac-oc.com
END:VEVENT
BEGIN:VEVENT
DTSTART;TZID=America/Los_Angeles:20210617T023000
DTEND;TZID=America/Los_Angeles:20210617T040000
DTSTAMP:20260423T125223
CREATED:20201210T101250Z
LAST-MODIFIED:20210528T015043Z
UID:1976-1623897000-1623902400@eac-oc.com
SUMMARY:Future of Performance Appraisals
DESCRIPTION:The use of traditional performance appraisals has come under increased scrutiny in recent years with many companies moving in different directions.  Paul Fleck\, partner with Atkinson\, Andelson\, Loya\, Ruud & Romo  will review the appraisal process\, share best practices and provide guidance in documenting unsatisfactory employee performance. \n(1) Discuss the pros and cons of performance appraisals-why doing them wrong can be just as bad as not having them at all; \n(2) Review the challenges of properly communicating with employees-both in person and in a remote environment; and \n(3) Obtain tips and strategies for developing impactful performance appraisals offering concrete steps for handling employee deficiencies.
URL:https://eac-oc.com/events/future-of-performance-appraisals/
LOCATION:Online Webinar
CATEGORIES:Webinar
ATTACH;FMTTYPE=image/jpeg:https://eac-oc.com/wp-content/uploads/2020/12/performance-appraisals.jpg
ORGANIZER;CN="EAC-OC":MAILTO:info@eac-oc.com
END:VEVENT
END:VCALENDAR