BEGIN:VCALENDAR
VERSION:2.0
PRODID:-//Employer Advisory Council of Orange County, Inc. - ECPv6.15.20//NONSGML v1.0//EN
CALSCALE:GREGORIAN
METHOD:PUBLISH
X-WR-CALNAME:Employer Advisory Council of Orange County, Inc.
X-ORIGINAL-URL:https://eac-oc.com
X-WR-CALDESC:Events for Employer Advisory Council of Orange County, Inc.
REFRESH-INTERVAL;VALUE=DURATION:PT1H
X-Robots-Tag:noindex
X-PUBLISHED-TTL:PT1H
BEGIN:VTIMEZONE
TZID:America/Los_Angeles
BEGIN:DAYLIGHT
TZOFFSETFROM:-0800
TZOFFSETTO:-0700
TZNAME:PDT
DTSTART:20240310T100000
END:DAYLIGHT
BEGIN:STANDARD
TZOFFSETFROM:-0700
TZOFFSETTO:-0800
TZNAME:PST
DTSTART:20241103T090000
END:STANDARD
BEGIN:DAYLIGHT
TZOFFSETFROM:-0800
TZOFFSETTO:-0700
TZNAME:PDT
DTSTART:20250309T100000
END:DAYLIGHT
BEGIN:STANDARD
TZOFFSETFROM:-0700
TZOFFSETTO:-0800
TZNAME:PST
DTSTART:20251102T090000
END:STANDARD
BEGIN:DAYLIGHT
TZOFFSETFROM:-0800
TZOFFSETTO:-0700
TZNAME:PDT
DTSTART:20260308T100000
END:DAYLIGHT
BEGIN:STANDARD
TZOFFSETFROM:-0700
TZOFFSETTO:-0800
TZNAME:PST
DTSTART:20261101T090000
END:STANDARD
END:VTIMEZONE
BEGIN:VEVENT
DTSTART;TZID=America/Los_Angeles:20251023T093000
DTEND;TZID=America/Los_Angeles:20251023T110000
DTSTAMP:20260423T230756
CREATED:20241228T220202Z
LAST-MODIFIED:20241228T220202Z
UID:4317-1761211800-1761217200@eac-oc.com
SUMMARY:Q4 Hotline Highlights: Quarterly Employment Law Q&A for California Employers
DESCRIPTION:2025 Q4 Hotline Highlights: Quarterly Employment Law Q&A for California Employers \nPresented by Colleen McCarthy & James Rumm\, Kennedy McCarthy & Rumm \nThe Employer Advisory Council (EAC) quarterly employer hotline program offers a valuable platform for employers to address pressing workplace concerns with expert guidance from seasoned employment law attorneys. This program reviews real-world questions submitted to the management hotline each quarter\, covering topics such as employee discipline\, wage and hour compliance\, leave policies\, and emerging workplace challenges. By analyzing these scenarios\, attorneys provide actionable insights and legal interpretations that help employers navigate complex employment issues. The program not only clarifies legal obligations but also equips businesses with practical tools to proactively manage risks and maintain compliance in an ever-evolving regulatory environment. \nRegistration: \nFREE for ALL EAC MEMBERS\nRegister: https://us06web.zoom.us/meeting/register/FJfnWDT6QwyeUhlYrKjMVg
URL:https://eac-oc.com/events/q4-hotline-highlights-quarterly-employment-law-qa-for-california-employers/
LOCATION:Online Webinar
CATEGORIES:Webinar
ATTACH;FMTTYPE=image/jpeg:https://eac-oc.com/wp-content/uploads/2022/11/Hotlineteaser-1.jpg
ORGANIZER;CN="EAC-OC":MAILTO:info@eac-oc.com
END:VEVENT
END:VCALENDAR